BEGIN:VCALENDAR
VERSION:2.0
PRODID:-//www.bmbcgso.com - ECPv6.15.20//NONSGML v1.0//EN
CALSCALE:GREGORIAN
METHOD:PUBLISH
X-ORIGINAL-URL:https://www.bmbcgso.com
X-WR-CALDESC:Events for www.bmbcgso.com
REFRESH-INTERVAL;VALUE=DURATION:PT1H
X-Robots-Tag:noindex
X-PUBLISHED-TTL:PT1H
BEGIN:VTIMEZONE
TZID:UTC
BEGIN:STANDARD
TZOFFSETFROM:+0000
TZOFFSETTO:+0000
TZNAME:UTC
DTSTART:20220101T000000
END:STANDARD
END:VTIMEZONE
BEGIN:VTIMEZONE
TZID:America/New_York
BEGIN:DAYLIGHT
TZOFFSETFROM:-0500
TZOFFSETTO:-0400
TZNAME:EDT
DTSTART:20220313T070000
END:DAYLIGHT
BEGIN:STANDARD
TZOFFSETFROM:-0400
TZOFFSETTO:-0500
TZNAME:EST
DTSTART:20221106T060000
END:STANDARD
BEGIN:DAYLIGHT
TZOFFSETFROM:-0500
TZOFFSETTO:-0400
TZNAME:EDT
DTSTART:20230312T070000
END:DAYLIGHT
BEGIN:STANDARD
TZOFFSETFROM:-0400
TZOFFSETTO:-0500
TZNAME:EST
DTSTART:20231105T060000
END:STANDARD
BEGIN:DAYLIGHT
TZOFFSETFROM:-0500
TZOFFSETTO:-0400
TZNAME:EDT
DTSTART:20240310T070000
END:DAYLIGHT
BEGIN:STANDARD
TZOFFSETFROM:-0400
TZOFFSETTO:-0500
TZNAME:EST
DTSTART:20241103T060000
END:STANDARD
END:VTIMEZONE
BEGIN:VEVENT
DTSTART;TZID=UTC:20230708T100000
DTEND;TZID=UTC:20230708T110000
DTSTAMP:20260419T120153
CREATED:20230706T133310Z
LAST-MODIFIED:20230706T133531Z
UID:10000004-1688810400-1688814000@www.bmbcgso.com
SUMMARY:Believers Achievers
DESCRIPTION:
URL:https://www.bmbcgso.com/announcements/believers-achievers/
LOCATION:Fellowship Hall
ATTACH;FMTTYPE=image/png:https://www.bmbcgso.com/wp-content/uploads/2023/07/Believers-Achievers.png
END:VEVENT
BEGIN:VEVENT
DTSTART;TZID=UTC:20230708T100000
DTEND;TZID=UTC:20230708T110000
DTSTAMP:20260419T120153
CREATED:20230706T133310Z
LAST-MODIFIED:20230706T133310Z
UID:10001248-1688810400-1688814000@www.bmbcgso.com
SUMMARY:Believers Achievers
DESCRIPTION:
URL:https://www.bmbcgso.com/announcements/believers-achievers-2/
LOCATION:Fellowship Hall
ATTACH;FMTTYPE=image/png:https://www.bmbcgso.com/wp-content/uploads/2023/07/Believers-Achievers.png
END:VEVENT
BEGIN:VEVENT
DTSTART;TZID=UTC:20230722T050000
DTEND;TZID=UTC:20230722T080000
DTSTAMP:20260419T120153
CREATED:20230721T132358Z
LAST-MODIFIED:20230808T212605Z
UID:10000010-1690002000-1690012800@www.bmbcgso.com
SUMMARY:Believers Feeders
DESCRIPTION:Believers Feeders: Breakfast at Potter’s House – every 4th Saturday 5:00 AM \nDedicated to the teaching of Christ by serving our neighbors facing hunger in the community. Our mission is to volunteer and passionately serve our community by providing nourishment and fostering hope among those facing food insecurities. If you have a heart for local outreach\, Believers Feeders Ministry is for you!  \n  \nOpportunities to serve and support \n\nPrepare and serve breakfast every fourth Saturday 5:30 AM-8:00 AM at Potter’s House Community Kitchen **All ages are welcome! Children under the age of 16 must have a parent/guardian present**\n\n  \n\nOngoing nonperishable food item donation drives to help stock the shelves at Greensboro Urban Ministry Choice Pantry. Collection boxes located in church vestibule\n\nSister Debra Alston and other Believers Volunteers will be serving breakfast at Urban \nMinistry Potters House on Saturday\, July 22\, 2023 beginning at 5:00a.m. They are \nat Potters House every fourth Saturday preparing and serving delicious hot meals.  Thank \nyou\, Sister Debra and all the volunteers for your wonderful hearts of serving and giving to \nthose in need.  May God continue to bless you abundantly! \n  \nOn Going –believers’ feeders: Greensboro urban ministry \nemergency grocery assistance Food Donation Drive  \ncollection boxes are located in the church vestibule. \n 
URL:https://www.bmbcgso.com/announcements/believers-feeders/2023-07-22/
LOCATION:NC
ATTACH;FMTTYPE=image/jpeg:https://www.bmbcgso.com/wp-content/uploads/2023/07/IMG_2440-scaled.jpg
END:VEVENT
BEGIN:VEVENT
DTSTART;TZID=UTC:20230722T050000
DTEND;TZID=UTC:20230722T080000
DTSTAMP:20260419T120153
CREATED:20230721T132358Z
LAST-MODIFIED:20230721T132358Z
UID:10001253-1690002000-1690012800@www.bmbcgso.com
SUMMARY:Believers Feeders
DESCRIPTION:Believers Feeders: Breakfast at Potter’s House – every 4th Saturday 5:00 AM \nDedicated to the teaching of Christ by serving our neighbors facing hunger in the community. Our mission is to volunteer and passionately serve our community by providing nourishment and fostering hope among those facing food insecurities. If you have a heart for local outreach\, Believers Feeders Ministry is for you!  \n  \nOpportunities to serve and support \n\nPrepare and serve breakfast every fourth Saturday 5:30 AM-8:00 AM at Potter’s House Community Kitchen **All ages are welcome! Children under the age of 16 must have a parent/guardian present**\n\n  \n\nOngoing nonperishable food item donation drives to help stock the shelves at Greensboro Urban Ministry Choice Pantry. Collection boxes located in church vestibule\n\nSister Debra Alston and other Believers Volunteers will be serving breakfast at Urban \nMinistry Potters House on Saturday\, July 22\, 2023 beginning at 5:00a.m. They are \nat Potters House every fourth Saturday preparing and serving delicious hot meals.  Thank \nyou\, Sister Debra and all the volunteers for your wonderful hearts of serving and giving to \nthose in need.  May God continue to bless you abundantly! \n  \nOn Going –believers’ feeders: Greensboro urban ministry \nemergency grocery assistance Food Donation Drive  \ncollection boxes are located in the church vestibule. \n 
URL:https://www.bmbcgso.com/announcements/believers-feeders-3/2023-07-22/
LOCATION:NC
ATTACH;FMTTYPE=image/jpeg:https://www.bmbcgso.com/wp-content/uploads/2023/07/IMG_2440-scaled.jpg
END:VEVENT
BEGIN:VEVENT
DTSTART;TZID=UTC:20230723T093000
DTEND;TZID=UTC:20230723T103000
DTSTAMP:20260419T120153
CREATED:20230314T204418Z
LAST-MODIFIED:20230723T153224Z
UID:10000002-1690104600-1690108200@www.bmbcgso.com
SUMMARY:Adult Sunday School
DESCRIPTION:Adult Sunday School 9:30 A.M.  (in person and  Zoom) \nSunday School Lesson 8 – July 23\, 2023 \n  \nThe Weeds Among the Wheat \nKEY VERSE \nLet both grow together until the harvest: and in the time of harvest I will say to the reapers\, Gather ye together first the tares\, and bind them in bundles to burn them: but gather the wheat into my barn.  \n—Matthew 13:30\, KJV  \n  \n“Let both grow together until the harvest. At that time I will tell the harvesters: First collect the weeds and tie them in bundles to be burned; then gather the wheat and bring it into my barn.”  \n—Matthew 13:30\, NIV  \n  \nDAILY BIBLE READINGS FOR NEXT WEEK’S LESSON \n          Week of July 24 through July 30 \n  \nMon. Proverbs 8:1-12—Wisdom Is Better than Jewels. \nTues. Job 28:1-2\, 12-19—Where Shall Wisdom Be Found? \nWed. Luke 5:1-11—A Miraculous Catch of Fish. \nThurs. Psalm 148—Praise the Lord from the Heavens.\nFri. Matthew 6:19-33—Store Up Treasures in Heaven. \nSat. Psalm 119:161-176—God’s Word Is Great Treasure. \nSun. Matthew 13:44-52—Heaven’s Hidden Treasures. \n  \n  \nClick here to join us on Zoom for Adult Sunday School and Sunday Morning Worship: \nhttps://us02web.zoom.us/j/75459823462pwd=VVRTOFdJRTh1L3hhTCtZbjI3T2RZdz09\n \nMeeting ID: 754 5982 3462 \nPassword: faith \nJoin by Phone (You can also join from your landline or cell phone using the following dial in number\, meeting ID and passcode): \nDial 646 558 8656 \nMeeting ID 754 5982 3462#                                                                                                                          \nPasscode:  574378#
URL:https://www.bmbcgso.com/announcements/adult-sunday-school/
LOCATION:Believers Missionary Baptist Church\, 235 Ward Rd\, Greensboro\, NC\, 27405\, United States
ATTACH;FMTTYPE=image/jpeg:https://www.bmbcgso.com/wp-content/uploads/2023/07/IMG_7613-Enhanced-NR.jpg
END:VEVENT
BEGIN:VEVENT
DTSTART;TZID=UTC:20230723T093000
DTEND;TZID=UTC:20230723T103000
DTSTAMP:20260419T120153
CREATED:20230314T204418Z
LAST-MODIFIED:20230314T204418Z
UID:10001247-1690104600-1690108200@www.bmbcgso.com
SUMMARY:Adult Sunday School
DESCRIPTION:Adult Sunday School 9:30 A.M.  (in person and  Zoom) \nSunday School Lesson 8 – July 23\, 2023 \n  \nThe Weeds Among the Wheat \nKEY VERSE \nLet both grow together until the harvest: and in the time of harvest I will say to the reapers\, Gather ye together first the tares\, and bind them in bundles to burn them: but gather the wheat into my barn.  \n—Matthew 13:30\, KJV  \n  \n“Let both grow together until the harvest. At that time I will tell the harvesters: First collect the weeds and tie them in bundles to be burned; then gather the wheat and bring it into my barn.”  \n—Matthew 13:30\, NIV  \n  \nDAILY BIBLE READINGS FOR NEXT WEEK’S LESSON \n          Week of July 24 through July 30 \n  \nMon. Proverbs 8:1-12—Wisdom Is Better than Jewels. \nTues. Job 28:1-2\, 12-19—Where Shall Wisdom Be Found? \nWed. Luke 5:1-11—A Miraculous Catch of Fish. \nThurs. Psalm 148—Praise the Lord from the Heavens.\nFri. Matthew 6:19-33—Store Up Treasures in Heaven. \nSat. Psalm 119:161-176—God’s Word Is Great Treasure. \nSun. Matthew 13:44-52—Heaven’s Hidden Treasures. \n  \n  \nClick here to join us on Zoom for Adult Sunday School and Sunday Morning Worship: \nhttps://us02web.zoom.us/j/75459823462pwd=VVRTOFdJRTh1L3hhTCtZbjI3T2RZdz09\n \nMeeting ID: 754 5982 3462 \nPassword: faith \nJoin by Phone (You can also join from your landline or cell phone using the following dial in number\, meeting ID and passcode): \nDial 646 558 8656 \nMeeting ID 754 5982 3462#                                                                                                                          \nPasscode:  574378#
URL:https://www.bmbcgso.com/announcements/adult-sunday-school-3/
LOCATION:Believers Missionary Baptist Church\, 235 Ward Rd\, Greensboro\, NC\, 27405\, United States
ATTACH;FMTTYPE=image/jpeg:https://www.bmbcgso.com/wp-content/uploads/2023/07/IMG_7613-Enhanced-NR.jpg
END:VEVENT
BEGIN:VEVENT
DTSTART;TZID=America/New_York:20230723T110000
DTEND;TZID=America/New_York:20230723T130000
DTSTAMP:20260419T120153
CREATED:20230716T110051Z
LAST-MODIFIED:20230721T124753Z
UID:10000001-1690110000-1690117200@www.bmbcgso.com
SUMMARY:Sunday Morning Worship
DESCRIPTION:Sunday Morning Worship 11:00 A.M. (in person and Zoom) \n  \nClick here to join us on Zoom for Adult Sunday School and Sunday Morning Worship: \nhttps://us02web.zoom.us/j/75459823462pwd=VVRTOFdJRTh1L3hhTCtZbjI3T2RZdz09 \nMeeting ID: 754 5982 3462 \nPassword: faith \nJoin by Phone (You can also join from your landline or cell phone using the following dial in number\, meeting ID and passcode): \nDial 646 558 8656 \nMeeting ID 754 5982 3462# \nPasscode: 574378#
URL:https://www.bmbcgso.com/announcements/sunday-morning-worship/
LOCATION:Believers Missionary Baptist Church\, 235 Ward Rd\, Greensboro\, NC\, 27405\, United States
ATTACH;FMTTYPE=image/jpeg:https://www.bmbcgso.com/wp-content/uploads/2023/03/IMG_2137-scaled.jpg
END:VEVENT
BEGIN:VEVENT
DTSTART;TZID=America/New_York:20230723T110000
DTEND;TZID=America/New_York:20230723T130000
DTSTAMP:20260419T120153
CREATED:20230716T110051Z
LAST-MODIFIED:20230716T110051Z
UID:10001246-1690110000-1690117200@www.bmbcgso.com
SUMMARY:Sunday Morning Worship
DESCRIPTION:Sunday Morning Worship 11:00 A.M. (in person and Zoom) \n  \nClick here to join us on Zoom for Adult Sunday School and Sunday Morning Worship: \nhttps://us02web.zoom.us/j/75459823462pwd=VVRTOFdJRTh1L3hhTCtZbjI3T2RZdz09 \nMeeting ID: 754 5982 3462 \nPassword: faith \nJoin by Phone (You can also join from your landline or cell phone using the following dial in number\, meeting ID and passcode): \nDial 646 558 8656 \nMeeting ID 754 5982 3462# \nPasscode: 574378#
URL:https://www.bmbcgso.com/announcements/sunday-morning-worship-4/
LOCATION:Believers Missionary Baptist Church\, 235 Ward Rd\, Greensboro\, NC\, 27405\, United States
ATTACH;FMTTYPE=image/jpeg:https://www.bmbcgso.com/wp-content/uploads/2023/03/IMG_2137-scaled.jpg
END:VEVENT
BEGIN:VEVENT
DTSTART;TZID=UTC:20230728T190000
DTEND;TZID=UTC:20230728T200000
DTSTAMP:20260419T120153
CREATED:20230721T135230Z
LAST-MODIFIED:20230721T143524Z
UID:10000017-1690570800-1690574400@www.bmbcgso.com
SUMMARY:Deep River Missionary Baptist Union
DESCRIPTION:
URL:https://www.bmbcgso.com/announcements/deep-river-missionary-baptist-union/
LOCATION:NC
ATTACH;FMTTYPE=image/png:https://www.bmbcgso.com/wp-content/uploads/2023/07/3-days.png
END:VEVENT
BEGIN:VEVENT
DTSTART;TZID=UTC:20230728T190000
DTEND;TZID=UTC:20230728T200000
DTSTAMP:20260419T120153
CREATED:20230721T135230Z
LAST-MODIFIED:20230721T135230Z
UID:10001256-1690570800-1690574400@www.bmbcgso.com
SUMMARY:Deep River Missionary Baptist Union
DESCRIPTION:
URL:https://www.bmbcgso.com/announcements/deep-river-missionary-baptist-union-4/
LOCATION:NC
ATTACH;FMTTYPE=image/png:https://www.bmbcgso.com/wp-content/uploads/2023/07/3-days.png
END:VEVENT
BEGIN:VEVENT
DTSTART;TZID=UTC:20230729T090000
DTEND;TZID=UTC:20230729T110000
DTSTAMP:20260419T120153
CREATED:20230721T135434Z
LAST-MODIFIED:20230721T143605Z
UID:10000018-1690621200-1690628400@www.bmbcgso.com
SUMMARY:Deep River Missionary Baptist Union
DESCRIPTION:
URL:https://www.bmbcgso.com/announcements/deep-river-missionary-baptist-union-2/
LOCATION:NC
ATTACH;FMTTYPE=image/png:https://www.bmbcgso.com/wp-content/uploads/2023/07/3-days.png
END:VEVENT
BEGIN:VEVENT
DTSTART;TZID=UTC:20230729T090000
DTEND;TZID=UTC:20230729T110000
DTSTAMP:20260419T120153
CREATED:20230721T135434Z
LAST-MODIFIED:20230721T135434Z
UID:10001257-1690621200-1690628400@www.bmbcgso.com
SUMMARY:Deep River Missionary Baptist Union
DESCRIPTION:
URL:https://www.bmbcgso.com/announcements/deep-river-missionary-baptist-union-2-2/
LOCATION:NC
ATTACH;FMTTYPE=image/png:https://www.bmbcgso.com/wp-content/uploads/2023/07/3-days.png
END:VEVENT
BEGIN:VEVENT
DTSTART;TZID=UTC:20230730T093000
DTEND;TZID=UTC:20230730T103000
DTSTAMP:20260419T120153
CREATED:20230721T130715Z
LAST-MODIFIED:20230721T130741Z
UID:10000007-1690709400-1690713000@www.bmbcgso.com
SUMMARY:Adult Sunday School
DESCRIPTION:Adult Sunday School 9:30 A.M.  (in person and  Zoom) \n  \nClick here to join us on Zoom for Adult Sunday School and Sunday Morning Worship: \nhttps://us02web.zoom.us/j/75459823462pwd=VVRTOFdJRTh1L3hhTCtZbjI3T2RZdz09 \nMeeting ID: 754 5982 3462 \nPassword: faith \nJoin by Phone (You can also join from your landline or cell phone using the following dial in number\, meeting ID and passcode): \nDial 646 558 8656 \nMeeting ID 754 5982 3462# \nPasscode:  574378#
URL:https://www.bmbcgso.com/announcements/1792/
LOCATION:NC
ATTACH;FMTTYPE=image/jpeg:https://www.bmbcgso.com/wp-content/uploads/2023/07/IMG_7613-Enhanced-NR-1.jpg
END:VEVENT
BEGIN:VEVENT
DTSTART;TZID=UTC:20230730T093000
DTEND;TZID=UTC:20230730T103000
DTSTAMP:20260419T120153
CREATED:20230721T130715Z
LAST-MODIFIED:20230721T130715Z
UID:10001250-1690709400-1690713000@www.bmbcgso.com
SUMMARY:Adult Sunday School
DESCRIPTION:Adult Sunday School 9:30 A.M.  (in person and  Zoom) \n  \nClick here to join us on Zoom for Adult Sunday School and Sunday Morning Worship: \nhttps://us02web.zoom.us/j/75459823462pwd=VVRTOFdJRTh1L3hhTCtZbjI3T2RZdz09 \nMeeting ID: 754 5982 3462 \nPassword: faith \nJoin by Phone (You can also join from your landline or cell phone using the following dial in number\, meeting ID and passcode): \nDial 646 558 8656 \nMeeting ID 754 5982 3462# \nPasscode:  574378#
URL:https://www.bmbcgso.com/announcements/1792-2/
LOCATION:NC
ATTACH;FMTTYPE=image/jpeg:https://www.bmbcgso.com/wp-content/uploads/2023/07/IMG_7613-Enhanced-NR-1.jpg
END:VEVENT
BEGIN:VEVENT
DTSTART;TZID=UTC:20230730T093000
DTEND;TZID=UTC:20230730T120000
DTSTAMP:20260419T120153
CREATED:20230721T135623Z
LAST-MODIFIED:20230721T135630Z
UID:10000019-1690709400-1690718400@www.bmbcgso.com
SUMMARY:Deep River Missionary Baptist Union
DESCRIPTION:
URL:https://www.bmbcgso.com/announcements/deep-river-missionary-baptist-union-3/
LOCATION:NC
ATTACH;FMTTYPE=image/png:https://www.bmbcgso.com/wp-content/uploads/2023/07/3-days.png
END:VEVENT
BEGIN:VEVENT
DTSTART;TZID=UTC:20230730T093000
DTEND;TZID=UTC:20230730T120000
DTSTAMP:20260419T120153
CREATED:20230721T135623Z
LAST-MODIFIED:20230721T135623Z
UID:10001258-1690709400-1690718400@www.bmbcgso.com
SUMMARY:Deep River Missionary Baptist Union
DESCRIPTION:
URL:https://www.bmbcgso.com/announcements/deep-river-missionary-baptist-union-3-2/
LOCATION:NC
ATTACH;FMTTYPE=image/png:https://www.bmbcgso.com/wp-content/uploads/2023/07/3-days.png
END:VEVENT
BEGIN:VEVENT
DTSTART;TZID=America/New_York:20230730T110000
DTEND;TZID=America/New_York:20230730T130000
DTSTAMP:20260419T120153
CREATED:20230721T125239Z
LAST-MODIFIED:20230721T125239Z
UID:10000005-1690714800-1690722000@www.bmbcgso.com
SUMMARY:Sunday Morning Worship
DESCRIPTION:Sunday Morning Worship 11:00 A.M. (in person and Zoom) \n  \nClick here to join us on Zoom for Adult Sunday School and Sunday Morning Worship: \nhttps://us02web.zoom.us/j/75459823462pwd=VVRTOFdJRTh1L3hhTCtZbjI3T2RZdz09 \nMeeting ID: 754 5982 3462 \nPassword: faith \nJoin by Phone (You can also join from your landline or cell phone using the following dial in number\, meeting ID and passcode): \nDial 646 558 8656 \nMeeting ID 754 5982 3462# \nPasscode: 574378#
URL:https://www.bmbcgso.com/announcements/sunday-morning-worship-2/
LOCATION:Believers Missionary Baptist Church\, 235 Ward Rd\, Greensboro\, NC\, 27405\, United States
ATTACH;FMTTYPE=image/jpeg:https://www.bmbcgso.com/wp-content/uploads/2023/03/IMG_2137-scaled.jpg
END:VEVENT
BEGIN:VEVENT
DTSTART;TZID=America/New_York:20230730T110000
DTEND;TZID=America/New_York:20230730T130000
DTSTAMP:20260419T120153
CREATED:20230721T125239Z
LAST-MODIFIED:20230721T125239Z
UID:10001249-1690714800-1690722000@www.bmbcgso.com
SUMMARY:Sunday Morning Worship
DESCRIPTION:Sunday Morning Worship 11:00 A.M. (in person and Zoom) \n  \nClick here to join us on Zoom for Adult Sunday School and Sunday Morning Worship: \nhttps://us02web.zoom.us/j/75459823462pwd=VVRTOFdJRTh1L3hhTCtZbjI3T2RZdz09 \nMeeting ID: 754 5982 3462 \nPassword: faith \nJoin by Phone (You can also join from your landline or cell phone using the following dial in number\, meeting ID and passcode): \nDial 646 558 8656 \nMeeting ID 754 5982 3462# \nPasscode: 574378#
URL:https://www.bmbcgso.com/announcements/sunday-morning-worship-2-2/
LOCATION:Believers Missionary Baptist Church\, 235 Ward Rd\, Greensboro\, NC\, 27405\, United States
ATTACH;FMTTYPE=image/jpeg:https://www.bmbcgso.com/wp-content/uploads/2023/03/IMG_2137-scaled.jpg
END:VEVENT
END:VCALENDAR